BEGIN:VCALENDAR
VERSION:2.0
PRODID:-//Edgewall Software//NONSGML Trac 0.13dev-r10686//EN
METHOD:PUBLISH
X-WR-CALNAME:HaikuPorts - Roadmap
X-WR-CALDESC:HaikuPorts is a centralized collection of software ported to H
 aiku. Along with a Subversion repository to store all patches\, a Trac sit
 e eases cooperation on porting efforts.
X-WR-TIMEZONE:PDT
BEGIN:VEVENT
UID:</milestone/LibPak 1.0@ports.haiku-files.org>
DTSTAMP:20081231T080000Z
DTSTART;VALUE=DATE:20081231
SUMMARY:Milestone LibPak 1.0
URL:http://ports.haiku-files.org/milestone/LibPak%201.0
DESCRIPTION:Port all the libraries that were included in the !LibPak from !
 BeBits.\n== !LibPak ==\n[http://www.bebits.com/app/3322 LibPak]\nLibPak ch
 ecklist
END:VEVENT
BEGIN:VEVENT
UID:</milestone/Big App Dependencies@ports.haiku-files.org>
DTSTAMP:20100630T070000Z
DTSTART;VALUE=DATE:20100630
SUMMARY:Milestone Big App Dependencies
URL:http://ports.haiku-files.org/milestone/Big%20App%20Dependencies
DESCRIPTION:This milestone is to cover porting of dependency libraries need
 ed for "Big Apps" such as !AbiWord\, Blender\, CUPS and others that have a
  long list of dependencies that need porting.  If adding new libs to this 
 milestone\, please post a link to the "Big App" on this page as well.\n * 
 [wiki:app-office/abiword]\n * [wiki:media-gfx/blender]\n * [wiki:net-print
 /cups]\n * [wiki:media-video/handbrake]\n * [wiki:media-video/vlc]\n
END:VEVENT
BEGIN:VEVENT
UID:</milestone/Move to Bitbucket@ports.haiku-files.org>
DTSTAMP:20160131T080000Z
DTSTART;VALUE=DATE:20160131
SUMMARY:Milestone Move to Bitbucket
URL:http://ports.haiku-files.org/milestone/Move%20to%20Bitbucket
END:VEVENT
END:VCALENDAR
